BEGIN:VCALENDAR
VERSION:2.0
PRODID:-//Espacio Cultural Colombre - ECPv5.4.0.1//NONSGML v1.0//EN
CALSCALE:GREGORIAN
METHOD:PUBLISH
X-WR-CALNAME:Espacio Cultural Colombre
X-ORIGINAL-URL:https://espacioculturalcolombre.com
X-WR-CALDESC:Eventos para Espacio Cultural Colombre
BEGIN:VTIMEZONE
TZID:UTC
BEGIN:STANDARD
TZOFFSETFROM:+0000
TZOFFSETTO:+0000
TZNAME:UTC
DTSTART:20260101T000000
END:STANDARD
END:VTIMEZONE
BEGIN:VEVENT
DTSTART;TZID=UTC:20260508T080000
DTEND;TZID=UTC:20260508T200000
DTSTAMP:20260423T143130
CREATED:20260423T113408Z
LAST-MODIFIED:20260423T113408Z
UID:5044-1778227200-1778270400@espacioculturalcolombre.com
SUMMARY:Club de lectura y presentación del libro Pueblo de Julio Mariscal
DESCRIPTION:FECHA: Viernes\, 8 de mayo de 2026\nHORA: 20:00 h\nACTIVIDAD: Club de lectura y presentación del libro Pueblo de Julio Mariscal publicado por Ediciones Impresiones\nCATEGORÍA: Poesía\nINTERVIENEN: Pedro Sevilla [poeta y prologuista]; Juan F. Sánchez [editor]; Manuel Sánchez Ortiz de Landaluce [depositario de la obra de Julio Mariscal] y público asistente que leerá un pasaje de la obra. \nSINOPSIS: Más que una presentación al uso hemos previsto un formato híbrido entre presentación y club de lectura. Como la obra es breve nos dará a tiempo a leerla juntos con la presencia\, presentación\, comentarios de quienes han intervenido en esta edición: Pedro Sevilla\, Juan F. Sánchez y Manuel Sánchez Ortiz de Landaluce. La idea es que aparte de los comentarios y análisis guiado de la obra podamos compartir lectura e impresiones y visiones del libro. \nJulio Mariscal Montes fue un poeta muy ligado a la tierra. Los dos pueblos donde pasó la mayor parte de sus días fueron\, primeramente Arcos de la Frontera\, su pueblo de nacimiento\, y en segundo lugar\, Paterna de Rivera\, el de adopción\, localidad en la que ejerció la docencia\, desde 1957 a 1967\, y donde se acentuó su pasión por el flamenco y la Semana Santa. Además\, fue en Paterna donde Julio Mariscal fue visitado por autores tan insignes como Gerardo Diego\, Gloria Fuertes o Fernando Quiñones. Pueblo está dedicado justamente a las calles y gentes de Paterna\, y\, aunque se conocía su existencia\, se había mantenido inédito hasta su publicación\, en 2025\, por la Editorial Impresiones. \nSe trata de un ramillete de bellas estampas en prosa poética\, que están en la noble línea de la tradición de ese género lírico que inaugurara Juan Ramón Jiménez con su Platero y yo (1914)\, y que ha dado importantes cumbres como Las cosas del campo de José Antonio Muñoz Rojas (1951). Retratando a Paterna de Rivera\, está retratando\, de alguna manera\, a otros pueblos de la Baja Andalucía de mediados del siglo XX\, de ahí la importancia de este libro. \nJulio Mariscal Montes (Arcos de la Frontera\, 1922-Jerez de la Frontera\, 1977). Apenas salió de su pueblo y nunca traspasó los límites de Andalucía. Con otros poetas fundó la revista Platero y más tarde la revista Alcaraván.\nSu poesía está recogida en los libros Corral de muertos (1954\, 2ª edición de 1972)\, Pasan hombres oscuros (1955)\, Poemas de ausencia (1957)\, Quinta palabra (1958)\, Tierra de secanos (1962)\, Tierra (1965)\, Último día (1971)\, Poemas a Soledad (1975)\, Trébol de cuatro hojas (1976) y\, póstumamente\, Aún es hoy (1980).\nSu obra ha sido objeto de numerosas recopilaciones entre las que cabe destacar La mano abierta (Renacimiento\, 2007) de Pedro Sevilla y José Mateos; Poesía Completa (Isla de Siltolá\, 2014) de Blanca Flores. \nHORA: 20:00 h\nENTRADA: 14€ (incluye el libro de la presentación) o gratis si traes tu libro ya de casa.
URL:https://espacioculturalcolombre.com/evento/club-de-lectura-y-presentacion-del-libro-pueblo-de-julio-mariscal/
LOCATION:Espacio Cultural Colombre\, C/ Esperanza de Triana\, 35. Local lateral\, Sevilla\, Sevilla\, 41002\, España
CATEGORIES:Poesía,Presentación de Libros
ATTACH;FMTTYPE=image/jpeg:https://espacioculturalcolombre.com/wp-content/uploads/2026/04/Cartel_Julio_Mariscal.jpg
END:VEVENT
END:VCALENDAR