BEGIN:VCALENDAR
VERSION:2.0
PRODID:-//Espacio Cultural Colombre - ECPv5.4.0.1//NONSGML v1.0//EN
CALSCALE:GREGORIAN
METHOD:PUBLISH
X-WR-CALNAME:Espacio Cultural Colombre
X-ORIGINAL-URL:https://espacioculturalcolombre.com
X-WR-CALDESC:Eventos para Espacio Cultural Colombre
BEGIN:VTIMEZONE
TZID:UTC
BEGIN:STANDARD
TZOFFSETFROM:+0000
TZOFFSETTO:+0000
TZNAME:UTC
DTSTART:20260101T000000
END:STANDARD
END:VTIMEZONE
BEGIN:VEVENT
DTSTART;TZID=UTC:20260410T203000
DTEND;TZID=UTC:20260410T220000
DTSTAMP:20260421T125239
CREATED:20260304T183039Z
LAST-MODIFIED:20260309T080830Z
UID:5000-1775853000-1775858400@espacioculturalcolombre.com
SUMMARY:La fiesta desde fuera - Lola Botello & Juana Gaitán
DESCRIPTION:FECHA: Viernes\, 10 de abril\nHORA: 20:30 h\nTÍTULO ESPECTÁCULO: La fiesta desde fuera\nCATEGORÍA: Música en directo/ Poesía\nINTÉRPRETE: Lola Botello (composición e interpretación) Juana Gaitán (arreglos\, guitarra y voz)\nSINOPSIS DEL ESPECTÁCULO: \nEntre boleros de Machín y recuerdos familiares\, La fiesta desde fuera narra el viaje íntimo de una mujer que\, tras la muerte de sus padres\, se enfrenta al duelo y la reconstrucción de su identidad. A través de música original y poesía\, este concierto reflexiona sobre la pérdida\, el tiempo y la memoria\, desde la mirada de una niña que ya no es niña\, pero que aún escucha el eco de aquellos bailes en el salón\, una búsqueda de la identidad después de la orfandad y una reflexión sobre el fenómeno de la muerte y los procesos de duelo en nuestra sociedad. \nLa fiesta desde fuera es un libro de poemas (Ediciones En Huida\, 2025) y es también un espectáculo de teatro\, estrenado en el Teatro Central de Sevilla. Y partiendo de estos dos materiales\, la actriz y cantante Lola Botello (autora del poemario) acompañada por la guitarrista y compositora Juana Gaitán\, arreglista de las canciones\, han elaborado este concierto-recital a dúo. \nLola Botello (Huelva\, 1966). Profesional de las artes escénicas con más de 30 años de experiencia\, es actriz\, cantante y profesora de artes escénicas. Graduada en Arte Dramático y licenciada en Filología Inglesa\, se ha formado con reconocidos profesionales del teatro\, como Pablo Messiez\, Ernesto Arias o Andrés Lima. \nHa trabajado como actriz en importantes compañías como Teatro del Barrio y el Centro Andaluz de Teatro\, de la mano de directores como Miguel Narros o Alberto Sanjuan. \nHa participado en películas como Mamacruz y Solitude. Como cantante\, lidera la banda Cordelia. En la docencia\, ha dirigido el Aula de Teatro de la Universidad de Huelva y actualmente enseña en la ESAD de Córdoba. \nHa recibido premios como el Meridiana 2019 y el Escenarios de Sevilla 2021\, el CINTA 2023 o el Premio de la Crítica de Barcelona. \nTambién ha escrito y coescrito varias obras y trabaja como traductora e intérprete en el ámbito teatral. \n  \nJuana Gaitán es guitarrista\, cantante y compositora colombiana licenciada por el Conservatori Superior de Música Liceu (Barcelona) en guitarra jazz. Ha estudiado también guitarra clásica y canto. \nDurante su carrera musical se ha dedicado a la interpretación e investigación de músicas tradicionales latinoamericanas de países como Colombia\, Argentina\, Brasil\, Perú y Cuba\, adicionalmente\, se ha desenvuelto como intérprete en diversas agrupaciones. Además maestría de artes escénicas en la Universidad de Sevilla donde realizó su investigación sobre la artista multidisciplinar Violeta Parra. \nHa tocado en vivo en multitud de lugares de las dos orillas del atlántico y grabado con diferentes artistas de talla y renombre internacional. Ha investigado sobre la vida y la obra de Violeta Parra en su máster de Artes Escénicas y actualmente vive en Sevilla y se desenvuelve como intérprete en los grupos Proyecto Jazz Colombia\, Juana Gaitán Trío\, Dos Mundos\, Clave con Jazz y el dúo con el multinstrumentista Bernardo Parrilla. Ha publicado tres álbumes: Filo de montaña (2017)\, Nueva Flor (2019) y Dos mundos (2021) \n  \nENLACES DE INTERÉS PROMOCIONAL: \nwww.lolabotello.net \nhttps://youtu.be/JmwxeZLiiKc \nhttps://www.edicionesenhuida.es/producto/la-fiesta-desde-fuera/ \n  \n  \nHORA: 20:30 h \nPRECIO: Entrada a 12 euros. Anticipada en la web de Entradium.com
URL:https://espacioculturalcolombre.com/evento/la-fiesta-desde-fuera-lola-botello-juana-gaitan/
LOCATION:Espacio Cultural Colombre\, C/ Esperanza de Triana\, 35. Local lateral\, Sevilla\, Sevilla\, 41002\, España
CATEGORIES:Conciertos,Música,Poesía
ATTACH;FMTTYPE=image/jpeg:https://espacioculturalcolombre.com/wp-content/uploads/2026/03/Cartel_Lola_Botello-1.jpg
END:VEVENT
END:VCALENDAR