BEGIN:VCALENDAR
VERSION:2.0
PRODID:-//Espacio Cultural Colombre - ECPv5.4.0.1//NONSGML v1.0//EN
CALSCALE:GREGORIAN
METHOD:PUBLISH
X-WR-CALNAME:Espacio Cultural Colombre
X-ORIGINAL-URL:https://espacioculturalcolombre.com
X-WR-CALDESC:Eventos para Espacio Cultural Colombre
BEGIN:VTIMEZONE
TZID:UTC
BEGIN:STANDARD
TZOFFSETFROM:+0000
TZOFFSETTO:+0000
TZNAME:UTC
DTSTART:20260101T000000
END:STANDARD
END:VTIMEZONE
BEGIN:VEVENT
DTSTART;TZID=UTC:20260312T190000
DTEND;TZID=UTC:20260312T200000
DTSTAMP:20260421T083151
CREATED:20260303T235542Z
LAST-MODIFIED:20260303T235542Z
UID:4973-1773342000-1773345600@espacioculturalcolombre.com
SUMMARY:Presentación del libro Galgos de Víctor Briones
DESCRIPTION:FECHA: Jueves\, 12 de marzo de 2026\nHORA: 19:00 h\nACTIVIDAD: Presentación del libro Galgos. Manual de acogimiento publicado por Maclein & Parker\nCATEGORÍA: Poesía\nINTERVIENEN: Dafne Benjumea y Víctor Briones\nSINOPSIS: \nEn el poemario Galgos\, Víctor Briones pretende arrimarse a lo extraño\, lo inadaptado\, lo torcido; habla sobre sentirse alienado\, perdido\, roto\, imposible de amar. Pero también sobre los momentos de lucidez\, sobre ser transparentes y asilvestrados\, sobre conectar con el dolor y el gozo de no saber y no necesitar pertenecer. Los poemas de Galgos señalan la extrañeza que produce la realidad\, buscan claros para que los diferentes nos reconozcamos\, dejemos de intentar la inercia y nos acompañemos en la deriva. Todos tenemos rarezas que no nos enseñaron a airear y que nos definen mucho mejor que las competencias del buen ciudadano. Así\, el autor plantea el abordaje de este libro como un lugar de reunión para poder quitarnos de encima vidas enteras de ocultaciones y disolver juntos la vergüenza\, poder decir: «A mí también me pasa\, no exactamente así\, pero también me pasa». \nVíctor Briones Antón (Sevilla\, 1979) Se licenció en Psicología. Actualmente trabaja como administrativo en el SAS. También imparte cursos y talleres de creación poética. Ha publicado poesía en varias revistas (Nayagua\, Noches Áticas\, Yukali…). Varios de sus poemas fueron seleccionados para la antología Anónimos\, promovida por el festival Cosmopoética en dos ediciones (El Dispensario\, 2012 y 2013). Fue finalista de la iniciativa Poetas Noveles (ICAS\, 2019). \nHa publicado dos poemarios\, Insectos (La Espiral Literaria) en 2013 y Dormir destapado (Ediciones del 4 de Agosto) en 2022. Galgos (Maclenin & Parker\, 2026) es su tercer libro de poemas. \nHORA: 19:00 h\nORGANIZADO EN COLABORACIÓN: La Fuga Librerías\nENTRADA: Libre hasta completar aforo
URL:https://espacioculturalcolombre.com/evento/presentacion-del-libro-galgos-de-victor-briones/
LOCATION:Espacio Cultural Colombre\, C/ Esperanza de Triana\, 35. Local lateral\, Sevilla\, Sevilla\, 41002\, España
CATEGORIES:Poesía,Presentación de Libros
ATTACH;FMTTYPE=image/jpeg:https://espacioculturalcolombre.com/wp-content/uploads/2026/03/Cartel_Galgos.jpg
END:VEVENT
END:VCALENDAR