BEGIN:VCALENDAR
VERSION:2.0
PRODID:-//Espacio Cultural Colombre - ECPv5.4.0.1//NONSGML v1.0//EN
CALSCALE:GREGORIAN
METHOD:PUBLISH
X-WR-CALNAME:Espacio Cultural Colombre
X-ORIGINAL-URL:https://espacioculturalcolombre.com
X-WR-CALDESC:Eventos para Espacio Cultural Colombre
BEGIN:VTIMEZONE
TZID:UTC
BEGIN:STANDARD
TZOFFSETFROM:+0000
TZOFFSETTO:+0000
TZNAME:UTC
DTSTART:20220101T000000
END:STANDARD
END:VTIMEZONE
BEGIN:VEVENT
DTSTART;TZID=UTC:20220427T101500
DTEND;TZID=UTC:20220427T130000
DTSTAMP:20260419T134659
CREATED:20220406T154508Z
LAST-MODIFIED:20220406T155513Z
UID:3326-1651054500-1651064400@espacioculturalcolombre.com
SUMMARY:Visita de alumnos del IES Triana
DESCRIPTION:Con motivo de la semana del libro que celebran anualmente en el IES Triana recibiremos la visita de algunos grupos de la ESO y Bachillerato para que conozcan de primera mano el espacio cultural\, la librería y el sello editorial y las posibilidades culturales y literarias que tienen a tan escasos metros de distancia. La idea será crear nuevas conexiones en el barrio con las jóvenes generaciones interesadas en emprender en el ámbito de la cultura.
URL:https://espacioculturalcolombre.com/evento/visita-de-alumnos-del-ies-triana/
LOCATION:Espacio Cultural Colombre\, C/ Esperanza de Triana\, 35. Local lateral\, Sevilla\, Sevilla\, 41002\, España
ATTACH;FMTTYPE=image/jpeg:https://espacioculturalcolombre.com/wp-content/uploads/2022/04/DSC_2080-scaled.jpg
END:VEVENT
BEGIN:VEVENT
DTSTART;TZID=UTC:20220429T190000
DTEND;TZID=UTC:20220429T233000
DTSTAMP:20260419T134659
CREATED:20220406T152212Z
LAST-MODIFIED:20220406T153326Z
UID:3321-1651258800-1651275000@espacioculturalcolombre.com
SUMMARY:La viniloteca #Sesión 3
DESCRIPTION:Presentamos una nueva sesión de La Viniloteca\, vamos ya por la sesión tercera. La idea no es otra que escuchar\, sentir y divagar en torno a un disco que previamente seleccionan los organizadores de la cita: #jazzzworldelectronic y Artis Novas Full Organic Sound\, quienes presentan este proyecto con la novedad de mostrarnos un sonido impecable\, impresionante e inaudible\, a partir de un amplificador de válvula que ellos mismos\, músicos e ingenieros de sonido\, han creado para empezar a comercializarlo próximamente. \nSe selecciona un disco antológico de la historia reciente de la música\, se pincha y se oye saboreando todas las texturas y relieves que permiten la ingeniera musical. Esa escucha se hace en silencio y cómodamente sentado\, luego al finalizar la audición entre los asistentes se abre la chara para comentar lo que se quiera: aspectos técnicos\, detalles de la historia de la edición\, así como impresiones y opiniones que van desde lo concreto hasta lo disperso\, siempre rodeados de un entorno maravilloso entre libros\, vinos y quesos. Son sesiones para aprender disfrutando o disfrutar aprendiendo en todos los sentidos. \nSi quieres reserva para esta sesión no dejes de escribir un correo a\njazzworldelectronic@gmail.com
URL:https://espacioculturalcolombre.com/evento/la-viniloteca-sesion-3/
LOCATION:Espacio Cultural Colombre\, C/ Esperanza de Triana\, 35. Local lateral\, Sevilla\, Sevilla\, 41002\, España
ATTACH;FMTTYPE=image/jpeg:https://espacioculturalcolombre.com/wp-content/uploads/2022/04/IMG_20220325_202301-scaled.jpg
END:VEVENT
BEGIN:VEVENT
DTSTART;TZID=UTC:20220509T190000
DTEND;TZID=UTC:20220509T210000
DTSTAMP:20260419T134700
CREATED:20220406T151027Z
LAST-MODIFIED:20220406T151035Z
UID:3305-1652122800-1652130000@espacioculturalcolombre.com
SUMMARY:Taller de creación poética
DESCRIPTION:Con más de 15 años de experiencia como profesora de talleres literarios\, Carmen Camacho imparte conferencias y laboratorios de creación literaria para públicos de todos los niveles y edades\, desde primaria\, secundaria y bachillerato a grupos de nivel avanzado de másteres universitarios de escritura creativa\, en instituciones culturales como el Instituto Cervantes o el Centro Andaluz de las Letras o festivales como Poetas\, en Madrid; Irreconciliables\, en Málaga; Poemargen\, en Salamanca; Marpoética\, en Marbella… \nHa formado parte del panel de expertos del Programa de Creación Literaria de la Consejería de Educación de la Junta de Andalucía. En él\, ha participado en la revisión e implementación del material didáctico y ha impartido formación al profesorado para la realización de actividades de creatividad literaria en el aula. \nTambién ha formado parte del profesorado de la Escuela de Escritores Noveles de la Junta de Andalucía\, y de Fuentetaja.\n‍\nCamacho ha sido pionera en el desarrollo de materiales didácticos para la escritura aforística\, y ha desarrollado talleres de aforismos poéticos para las universidades de Sevilla\, Salamanca y Central\, en Bogotá\, Colombia\, para centros de profesorado de la Junta de Andalucía y para otras instituciones culturales.\n‍ \nDesde 2016 dirige de forma permanente dos grupos de creación literaria en el Espacio Cultural Colombre\, en Sevilla. Los talleres son un serial al que uno puede engancharse desde comienzo del curso\, en septiembre\, pero al estar configurados como bloques trimestrales también a principios de enero y de abril hay posibilidad de incorporar a nuevas personas interesadas. \nSi quieres más información no dudes en ponerte en contacto directamente con ella\, a través del formulario de su página web.
URL:https://espacioculturalcolombre.com/evento/taller-de-creacion-poetica-17/
LOCATION:Espacio Cultural Colombre\, C/ Esperanza de Triana\, 35. Local lateral\, Sevilla\, Sevilla\, 41002\, España
ATTACH;FMTTYPE=image/jpeg:https://espacioculturalcolombre.com/wp-content/uploads/2021/09/24052019-IMG_7408-Blog.jpg
END:VEVENT
BEGIN:VEVENT
DTSTART;TZID=UTC:20220510T190000
DTEND;TZID=UTC:20220510T210000
DTSTAMP:20260419T134700
CREATED:20220406T151108Z
LAST-MODIFIED:20220406T151113Z
UID:3307-1652209200-1652216400@espacioculturalcolombre.com
SUMMARY:Taller de creación poética
DESCRIPTION:Con más de 15 años de experiencia como profesora de talleres literarios\, Carmen Camacho imparte conferencias y laboratorios de creación literaria para públicos de todos los niveles y edades\, desde primaria\, secundaria y bachillerato a grupos de nivel avanzado de másteres universitarios de escritura creativa\, en instituciones culturales como el Instituto Cervantes o el Centro Andaluz de las Letras o festivales como Poetas\, en Madrid; Irreconciliables\, en Málaga; Poemargen\, en Salamanca; Marpoética\, en Marbella… \nHa formado parte del panel de expertos del Programa de Creación Literaria de la Consejería de Educación de la Junta de Andalucía. En él\, ha participado en la revisión e implementación del material didáctico y ha impartido formación al profesorado para la realización de actividades de creatividad literaria en el aula. \nTambién ha formado parte del profesorado de la Escuela de Escritores Noveles de la Junta de Andalucía\, y de Fuentetaja.\n‍\nCamacho ha sido pionera en el desarrollo de materiales didácticos para la escritura aforística\, y ha desarrollado talleres de aforismos poéticos para las universidades de Sevilla\, Salamanca y Central\, en Bogotá\, Colombia\, para centros de profesorado de la Junta de Andalucía y para otras instituciones culturales.\n‍ \nDesde 2016 dirige de forma permanente dos grupos de creación literaria en el Espacio Cultural Colombre\, en Sevilla. Los talleres son un serial al que uno puede engancharse desde comienzo del curso\, en septiembre\, pero al estar configurados como bloques trimestrales también a principios de enero y de abril hay posibilidad de incorporar a nuevas personas interesadas. \nSi quieres más información no dudes en ponerte en contacto directamente con ella\, a través del formulario de su página web.
URL:https://espacioculturalcolombre.com/evento/taller-de-creacion-poetica-18/
LOCATION:Espacio Cultural Colombre\, C/ Esperanza de Triana\, 35. Local lateral\, Sevilla\, Sevilla\, 41002\, España
ATTACH;FMTTYPE=image/jpeg:https://espacioculturalcolombre.com/wp-content/uploads/2021/09/24052019-IMG_7408-Blog.jpg
END:VEVENT
BEGIN:VEVENT
DTSTART;TZID=UTC:20220530T190000
DTEND;TZID=UTC:20220530T210000
DTSTAMP:20260419T134700
CREATED:20220406T151137Z
LAST-MODIFIED:20220406T151137Z
UID:3309-1653937200-1653944400@espacioculturalcolombre.com
SUMMARY:Taller de creación poética
DESCRIPTION:Con más de 15 años de experiencia como profesora de talleres literarios\, Carmen Camacho imparte conferencias y laboratorios de creación literaria para públicos de todos los niveles y edades\, desde primaria\, secundaria y bachillerato a grupos de nivel avanzado de másteres universitarios de escritura creativa\, en instituciones culturales como el Instituto Cervantes o el Centro Andaluz de las Letras o festivales como Poetas\, en Madrid; Irreconciliables\, en Málaga; Poemargen\, en Salamanca; Marpoética\, en Marbella… \nHa formado parte del panel de expertos del Programa de Creación Literaria de la Consejería de Educación de la Junta de Andalucía. En él\, ha participado en la revisión e implementación del material didáctico y ha impartido formación al profesorado para la realización de actividades de creatividad literaria en el aula. \nTambién ha formado parte del profesorado de la Escuela de Escritores Noveles de la Junta de Andalucía\, y de Fuentetaja.\n‍\nCamacho ha sido pionera en el desarrollo de materiales didácticos para la escritura aforística\, y ha desarrollado talleres de aforismos poéticos para las universidades de Sevilla\, Salamanca y Central\, en Bogotá\, Colombia\, para centros de profesorado de la Junta de Andalucía y para otras instituciones culturales.\n‍ \nDesde 2016 dirige de forma permanente dos grupos de creación literaria en el Espacio Cultural Colombre\, en Sevilla. Los talleres son un serial al que uno puede engancharse desde comienzo del curso\, en septiembre\, pero al estar configurados como bloques trimestrales también a principios de enero y de abril hay posibilidad de incorporar a nuevas personas interesadas. \nSi quieres más información no dudes en ponerte en contacto directamente con ella\, a través del formulario de su página web.
URL:https://espacioculturalcolombre.com/evento/taller-de-creacion-poetica-19/
LOCATION:Espacio Cultural Colombre\, C/ Esperanza de Triana\, 35. Local lateral\, Sevilla\, Sevilla\, 41002\, España
ATTACH;FMTTYPE=image/jpeg:https://espacioculturalcolombre.com/wp-content/uploads/2021/09/24052019-IMG_7408-Blog.jpg
END:VEVENT
BEGIN:VEVENT
DTSTART;TZID=UTC:20220531T190000
DTEND;TZID=UTC:20220531T190000
DTSTAMP:20260419T134700
CREATED:20220406T151201Z
LAST-MODIFIED:20220406T151206Z
UID:3311-1654023600-1654023600@espacioculturalcolombre.com
SUMMARY:Taller de creación poética
DESCRIPTION:Con más de 15 años de experiencia como profesora de talleres literarios\, Carmen Camacho imparte conferencias y laboratorios de creación literaria para públicos de todos los niveles y edades\, desde primaria\, secundaria y bachillerato a grupos de nivel avanzado de másteres universitarios de escritura creativa\, en instituciones culturales como el Instituto Cervantes o el Centro Andaluz de las Letras o festivales como Poetas\, en Madrid; Irreconciliables\, en Málaga; Poemargen\, en Salamanca; Marpoética\, en Marbella… \nHa formado parte del panel de expertos del Programa de Creación Literaria de la Consejería de Educación de la Junta de Andalucía. En él\, ha participado en la revisión e implementación del material didáctico y ha impartido formación al profesorado para la realización de actividades de creatividad literaria en el aula. \nTambién ha formado parte del profesorado de la Escuela de Escritores Noveles de la Junta de Andalucía\, y de Fuentetaja.\n‍\nCamacho ha sido pionera en el desarrollo de materiales didácticos para la escritura aforística\, y ha desarrollado talleres de aforismos poéticos para las universidades de Sevilla\, Salamanca y Central\, en Bogotá\, Colombia\, para centros de profesorado de la Junta de Andalucía y para otras instituciones culturales.\n‍ \nDesde 2016 dirige de forma permanente dos grupos de creación literaria en el Espacio Cultural Colombre\, en Sevilla. Los talleres son un serial al que uno puede engancharse desde comienzo del curso\, en septiembre\, pero al estar configurados como bloques trimestrales también a principios de enero y de abril hay posibilidad de incorporar a nuevas personas interesadas. \nSi quieres más información no dudes en ponerte en contacto directamente con ella\, a través del formulario de su página web.
URL:https://espacioculturalcolombre.com/evento/taller-de-creacion-poetica-20/
LOCATION:Espacio Cultural Colombre\, C/ Esperanza de Triana\, 35. Local lateral\, Sevilla\, Sevilla\, 41002\, España
ATTACH;FMTTYPE=image/jpeg:https://espacioculturalcolombre.com/wp-content/uploads/2021/09/24052019-IMG_7408-Blog.jpg
END:VEVENT
END:VCALENDAR